BEGIN:VCALENDAR
VERSION:2.0
PRODID:-//Wet on Wellington - ECPv6.15.12.2//NONSGML v1.0//EN
CALSCALE:GREGORIAN
METHOD:PUBLISH
X-WR-CALNAME:Wet on Wellington
X-ORIGINAL-URL:https://dev.peninsulasauna.com.au
X-WR-CALDESC:Events for Wet on Wellington
REFRESH-INTERVAL;VALUE=DURATION:PT1H
X-Robots-Tag:noindex
X-PUBLISHED-TTL:PT1H
BEGIN:VTIMEZONE
TZID:Australia/Melbourne
BEGIN:STANDARD
TZOFFSETFROM:+1100
TZOFFSETTO:+1000
TZNAME:AEST
DTSTART:20270403T160000
END:STANDARD
BEGIN:DAYLIGHT
TZOFFSETFROM:+1000
TZOFFSETTO:+1100
TZNAME:AEDT
DTSTART:20271002T160000
END:DAYLIGHT
BEGIN:STANDARD
TZOFFSETFROM:+1100
TZOFFSETTO:+1000
TZNAME:AEST
DTSTART:20280401T160000
END:STANDARD
BEGIN:DAYLIGHT
TZOFFSETFROM:+1000
TZOFFSETTO:+1100
TZNAME:AEDT
DTSTART:20280930T160000
END:DAYLIGHT
BEGIN:STANDARD
TZOFFSETFROM:+1100
TZOFFSETTO:+1000
TZNAME:AEST
DTSTART:20290331T160000
END:STANDARD
BEGIN:DAYLIGHT
TZOFFSETFROM:+1000
TZOFFSETTO:+1100
TZNAME:AEDT
DTSTART:20291006T160000
END:DAYLIGHT
END:VTIMEZONE
BEGIN:VEVENT
DTSTART;TZID=Australia/Melbourne:20280501T183000
DTEND;TZID=Australia/Melbourne:20280501T183000
DTSTAMP:20260423T075534
CREATED:20251015T074052Z
LAST-MODIFIED:20251122T162807Z
UID:10002213-1840818600-1840818600@dev.peninsulasauna.com.au
SUMMARY:Under 30s Night
DESCRIPTION:It’s time to party it up! \nThe first Monday of every month we dedicate to all boys 30 years old and younger! \nID required at entry. \nVCAT EXEMPTION: #H112/2023
URL:https://dev.peninsulasauna.com.au/event/under-30s-night/2028-05-01/
LOCATION:Wet on Wellington\, 162 Wellington Street\, Collingwood\, VIC\, 3066\, Australia
ATTACH;FMTTYPE=image/jpeg:https://dev.peninsulasauna.com.au/wp-content/uploads/2025/10/Under-30s-2025-1080p.jpg
END:VEVENT
BEGIN:VEVENT
DTSTART;TZID=Australia/Melbourne:20280502T183000
DTEND;TZID=Australia/Melbourne:20280503T020000
DTSTAMP:20260423T075534
CREATED:20251017T125629Z
LAST-MODIFIED:20251017T130247Z
UID:10001830-1840905000-1840932000@dev.peninsulasauna.com.au
SUMMARY:Furocious Bear Night
DESCRIPTION:A night for Bears\, Cubs\, Otters & Pandas…. And those who love them! Cum on in and wet your fur!
URL:https://dev.peninsulasauna.com.au/event/furocious-bear-night-2/2028-05-02/
LOCATION:Wet on Wellington\, 162 Wellington Street\, Collingwood\, VIC\, 3066\, Australia
ATTACH;FMTTYPE=image/jpeg:https://dev.peninsulasauna.com.au/wp-content/uploads/2025/10/Bear-Night-1080p-1.jpg
END:VEVENT
BEGIN:VEVENT
DTSTART;TZID=Australia/Melbourne:20280503T183000
DTEND;TZID=Australia/Melbourne:20280503T183000
DTSTAMP:20260423T075534
CREATED:20251017T054648Z
LAST-MODIFIED:20251017T130309Z
UID:10001570-1840991400-1840991400@dev.peninsulasauna.com.au
SUMMARY:Silver Daddy Night
DESCRIPTION:A night for all our sexy DADDIES and those who love them!
URL:https://dev.peninsulasauna.com.au/event/silver-daddy-night/2028-05-03/
LOCATION:Wet on Wellington\, 162 Wellington Street\, Collingwood\, VIC\, 3066\, Australia
ATTACH;FMTTYPE=image/jpeg:https://dev.peninsulasauna.com.au/wp-content/uploads/2025/10/Silver-2025-1080p.jpg
END:VEVENT
BEGIN:VEVENT
DTSTART;TZID=Australia/Melbourne:20280504T183000
DTEND;TZID=Australia/Melbourne:20280505T020000
DTSTAMP:20260423T075534
CREATED:20251017T054402Z
LAST-MODIFIED:20251017T125958Z
UID:10001309-1841077800-1841104800@dev.peninsulasauna.com.au
SUMMARY:Queer AF
DESCRIPTION:A night for all our Gay\, Bi\, Trans\, Crossdressers and anyone part of our LGBTQI+ community – Whoever you are\, whatever you’re into\, YOU ARE WELCOME!
URL:https://dev.peninsulasauna.com.au/event/queer-af/2028-05-04/
LOCATION:Wet on Wellington\, 162 Wellington Street\, Collingwood\, VIC\, 3066\, Australia
ATTACH;FMTTYPE=image/jpeg:https://dev.peninsulasauna.com.au/wp-content/uploads/2025/10/Queer-AF-updated-2025-1080p.jpg
END:VEVENT
BEGIN:VEVENT
DTSTART;TZID=Australia/Melbourne:20280505T200000
DTEND;TZID=Australia/Melbourne:20280505T230000
DTSTAMP:20260423T075534
CREATED:20251015T075300Z
LAST-MODIFIED:20251017T125532Z
UID:10001048-1841169600-1841180400@dev.peninsulasauna.com.au
SUMMARY:Happy Hour
DESCRIPTION:Kick off the weekend the RIGHT way at Wet on Wellington with Happy Hour every Friday from 8pm till 11pm! \nEnjoy a sauna with a $5 beer or even hang out in the spa with a $6 vodka\, lime and soda! Whatever your poison\, we have it here for Happy Hour! \n$5 OFF SELECT BEER & WINE AND $6 OFF SELECT SPIRITS!! \nDon’t forget we’re also open 24hrs till Monday 2am!!
URL:https://dev.peninsulasauna.com.au/event/happy-hour/2028-05-05/
LOCATION:Wet on Wellington\, 162 Wellington Street\, Collingwood\, VIC\, 3066\, Australia
ATTACH;FMTTYPE=image/png:https://dev.peninsulasauna.com.au/wp-content/uploads/2025/10/Red-Cream-Modern-Happy-Hour-Instagram-Story-1920-x-1080-px-2.png
END:VEVENT
BEGIN:VEVENT
DTSTART;TZID=Australia/Melbourne:20280508T183000
DTEND;TZID=Australia/Melbourne:20280509T020000
DTSTAMP:20260423T075534
CREATED:20251017T033530Z
LAST-MODIFIED:20251017T043251Z
UID:10002028-1841423400-1841450400@dev.peninsulasauna.com.au
SUMMARY:Xposed Nude Night
DESCRIPTION:Strip down and strut your stuff during Nude Night! Time to get those c*ck’s out and those bums up! Let it all hang out and get ‘xposed’ in a non-judgemental space. \nCompulsory nudity venue wide! \n*$35 Entry on a Public Holiday.
URL:https://dev.peninsulasauna.com.au/event/xposed-nude-night/2028-05-08/
LOCATION:Wet on Wellington\, 162 Wellington Street\, Collingwood\, VIC\, 3066\, Australia
ATTACH;FMTTYPE=image/jpeg:https://dev.peninsulasauna.com.au/wp-content/uploads/2025/10/Xposed-Nude-1080P-2.jpg
END:VEVENT
BEGIN:VEVENT
DTSTART;TZID=Australia/Melbourne:20280509T183000
DTEND;TZID=Australia/Melbourne:20280510T020000
DTSTAMP:20260423T075534
CREATED:20251017T125629Z
LAST-MODIFIED:20251017T130247Z
UID:10001831-1841509800-1841536800@dev.peninsulasauna.com.au
SUMMARY:Furocious Bear Night
DESCRIPTION:A night for Bears\, Cubs\, Otters & Pandas…. And those who love them! Cum on in and wet your fur!
URL:https://dev.peninsulasauna.com.au/event/furocious-bear-night-2/2028-05-09/
LOCATION:Wet on Wellington\, 162 Wellington Street\, Collingwood\, VIC\, 3066\, Australia
ATTACH;FMTTYPE=image/jpeg:https://dev.peninsulasauna.com.au/wp-content/uploads/2025/10/Bear-Night-1080p-1.jpg
END:VEVENT
BEGIN:VEVENT
DTSTART;TZID=Australia/Melbourne:20280510T183000
DTEND;TZID=Australia/Melbourne:20280510T183000
DTSTAMP:20260423T075534
CREATED:20251017T054648Z
LAST-MODIFIED:20251017T130309Z
UID:10001571-1841596200-1841596200@dev.peninsulasauna.com.au
SUMMARY:Silver Daddy Night
DESCRIPTION:A night for all our sexy DADDIES and those who love them!
URL:https://dev.peninsulasauna.com.au/event/silver-daddy-night/2028-05-10/
LOCATION:Wet on Wellington\, 162 Wellington Street\, Collingwood\, VIC\, 3066\, Australia
ATTACH;FMTTYPE=image/jpeg:https://dev.peninsulasauna.com.au/wp-content/uploads/2025/10/Silver-2025-1080p.jpg
END:VEVENT
BEGIN:VEVENT
DTSTART;TZID=Australia/Melbourne:20280511T183000
DTEND;TZID=Australia/Melbourne:20280512T020000
DTSTAMP:20260423T075534
CREATED:20251017T054402Z
LAST-MODIFIED:20251017T125958Z
UID:10001310-1841682600-1841709600@dev.peninsulasauna.com.au
SUMMARY:Queer AF
DESCRIPTION:A night for all our Gay\, Bi\, Trans\, Crossdressers and anyone part of our LGBTQI+ community – Whoever you are\, whatever you’re into\, YOU ARE WELCOME!
URL:https://dev.peninsulasauna.com.au/event/queer-af/2028-05-11/
LOCATION:Wet on Wellington\, 162 Wellington Street\, Collingwood\, VIC\, 3066\, Australia
ATTACH;FMTTYPE=image/jpeg:https://dev.peninsulasauna.com.au/wp-content/uploads/2025/10/Queer-AF-updated-2025-1080p.jpg
END:VEVENT
BEGIN:VEVENT
DTSTART;TZID=Australia/Melbourne:20280512T200000
DTEND;TZID=Australia/Melbourne:20280512T230000
DTSTAMP:20260423T075534
CREATED:20251015T075300Z
LAST-MODIFIED:20251017T125532Z
UID:10001049-1841774400-1841785200@dev.peninsulasauna.com.au
SUMMARY:Happy Hour
DESCRIPTION:Kick off the weekend the RIGHT way at Wet on Wellington with Happy Hour every Friday from 8pm till 11pm! \nEnjoy a sauna with a $5 beer or even hang out in the spa with a $6 vodka\, lime and soda! Whatever your poison\, we have it here for Happy Hour! \n$5 OFF SELECT BEER & WINE AND $6 OFF SELECT SPIRITS!! \nDon’t forget we’re also open 24hrs till Monday 2am!!
URL:https://dev.peninsulasauna.com.au/event/happy-hour/2028-05-12/
LOCATION:Wet on Wellington\, 162 Wellington Street\, Collingwood\, VIC\, 3066\, Australia
ATTACH;FMTTYPE=image/png:https://dev.peninsulasauna.com.au/wp-content/uploads/2025/10/Red-Cream-Modern-Happy-Hour-Instagram-Story-1920-x-1080-px-2.png
END:VEVENT
BEGIN:VEVENT
DTSTART;TZID=Australia/Melbourne:20280515T190000
DTEND;TZID=Australia/Melbourne:20280516T020000
DTSTAMP:20260423T075534
CREATED:20251015T074736Z
LAST-MODIFIED:20251017T054344Z
UID:10000626-1842030000-1842055200@dev.peninsulasauna.com.au
SUMMARY:Swingers Couples Pool Party
DESCRIPTION:$100 COUPLES\, $45 LADIES\, $350 SINGLE MEN* | Melbourne’ s most luxurious and erotic Men’s Club opens its doors for Swingers to engage in the sensuality of a naked and uninhibited Pool Party. Guests can indulge in all of the erotic and luxurious facilities that Wet On Wellington is famous for. \n*Single Men are required to pre-book by calling the venue on (03) 9419 2210. \nPlease note: Couples that arrive together must also depart together as a couple. Females can not depart without their male partner. Men are NOT allowed to be upstairs without a female partner unless entered as a Single Male.
URL:https://dev.peninsulasauna.com.au/event/swingers-couples-pool-party/2028-05-15/
LOCATION:Wet on Wellington\, 162 Wellington Street\, Collingwood\, VIC\, 3066\, Australia
ATTACH;FMTTYPE=image/jpeg:https://dev.peninsulasauna.com.au/wp-content/uploads/2025/10/Swingers-Couples-Pool-Party-1080p-2025.jpg
ORGANIZER;CN="Melbourne Swingers":MAILTO:info@melbourne-swingers.com.au
END:VEVENT
BEGIN:VEVENT
DTSTART;TZID=Australia/Melbourne:20280516T183000
DTEND;TZID=Australia/Melbourne:20280517T020000
DTSTAMP:20260423T075534
CREATED:20251017T125629Z
LAST-MODIFIED:20251017T130247Z
UID:10001832-1842114600-1842141600@dev.peninsulasauna.com.au
SUMMARY:Furocious Bear Night
DESCRIPTION:A night for Bears\, Cubs\, Otters & Pandas…. And those who love them! Cum on in and wet your fur!
URL:https://dev.peninsulasauna.com.au/event/furocious-bear-night-2/2028-05-16/
LOCATION:Wet on Wellington\, 162 Wellington Street\, Collingwood\, VIC\, 3066\, Australia
ATTACH;FMTTYPE=image/jpeg:https://dev.peninsulasauna.com.au/wp-content/uploads/2025/10/Bear-Night-1080p-1.jpg
END:VEVENT
BEGIN:VEVENT
DTSTART;TZID=Australia/Melbourne:20280517T183000
DTEND;TZID=Australia/Melbourne:20280517T183000
DTSTAMP:20260423T075534
CREATED:20251017T054648Z
LAST-MODIFIED:20251017T130309Z
UID:10001572-1842201000-1842201000@dev.peninsulasauna.com.au
SUMMARY:Silver Daddy Night
DESCRIPTION:A night for all our sexy DADDIES and those who love them!
URL:https://dev.peninsulasauna.com.au/event/silver-daddy-night/2028-05-17/
LOCATION:Wet on Wellington\, 162 Wellington Street\, Collingwood\, VIC\, 3066\, Australia
ATTACH;FMTTYPE=image/jpeg:https://dev.peninsulasauna.com.au/wp-content/uploads/2025/10/Silver-2025-1080p.jpg
END:VEVENT
BEGIN:VEVENT
DTSTART;TZID=Australia/Melbourne:20280518T183000
DTEND;TZID=Australia/Melbourne:20280519T020000
DTSTAMP:20260423T075534
CREATED:20251017T054402Z
LAST-MODIFIED:20251017T125958Z
UID:10001311-1842287400-1842314400@dev.peninsulasauna.com.au
SUMMARY:Queer AF
DESCRIPTION:A night for all our Gay\, Bi\, Trans\, Crossdressers and anyone part of our LGBTQI+ community – Whoever you are\, whatever you’re into\, YOU ARE WELCOME!
URL:https://dev.peninsulasauna.com.au/event/queer-af/2028-05-18/
LOCATION:Wet on Wellington\, 162 Wellington Street\, Collingwood\, VIC\, 3066\, Australia
ATTACH;FMTTYPE=image/jpeg:https://dev.peninsulasauna.com.au/wp-content/uploads/2025/10/Queer-AF-updated-2025-1080p.jpg
END:VEVENT
BEGIN:VEVENT
DTSTART;TZID=Australia/Melbourne:20280519T200000
DTEND;TZID=Australia/Melbourne:20280519T230000
DTSTAMP:20260423T075534
CREATED:20251015T075300Z
LAST-MODIFIED:20251017T125532Z
UID:10001050-1842379200-1842390000@dev.peninsulasauna.com.au
SUMMARY:Happy Hour
DESCRIPTION:Kick off the weekend the RIGHT way at Wet on Wellington with Happy Hour every Friday from 8pm till 11pm! \nEnjoy a sauna with a $5 beer or even hang out in the spa with a $6 vodka\, lime and soda! Whatever your poison\, we have it here for Happy Hour! \n$5 OFF SELECT BEER & WINE AND $6 OFF SELECT SPIRITS!! \nDon’t forget we’re also open 24hrs till Monday 2am!!
URL:https://dev.peninsulasauna.com.au/event/happy-hour/2028-05-19/
LOCATION:Wet on Wellington\, 162 Wellington Street\, Collingwood\, VIC\, 3066\, Australia
ATTACH;FMTTYPE=image/png:https://dev.peninsulasauna.com.au/wp-content/uploads/2025/10/Red-Cream-Modern-Happy-Hour-Instagram-Story-1920-x-1080-px-2.png
END:VEVENT
BEGIN:VEVENT
DTSTART;TZID=Australia/Melbourne:20280522T183000
DTEND;TZID=Australia/Melbourne:20280523T020000
DTSTAMP:20260423T075534
CREATED:20251017T033530Z
LAST-MODIFIED:20251017T043251Z
UID:10002029-1842633000-1842660000@dev.peninsulasauna.com.au
SUMMARY:Xposed Nude Night
DESCRIPTION:Strip down and strut your stuff during Nude Night! Time to get those c*ck’s out and those bums up! Let it all hang out and get ‘xposed’ in a non-judgemental space. \nCompulsory nudity venue wide! \n*$35 Entry on a Public Holiday.
URL:https://dev.peninsulasauna.com.au/event/xposed-nude-night/2028-05-22/
LOCATION:Wet on Wellington\, 162 Wellington Street\, Collingwood\, VIC\, 3066\, Australia
ATTACH;FMTTYPE=image/jpeg:https://dev.peninsulasauna.com.au/wp-content/uploads/2025/10/Xposed-Nude-1080P-2.jpg
END:VEVENT
BEGIN:VEVENT
DTSTART;TZID=Australia/Melbourne:20280523T183000
DTEND;TZID=Australia/Melbourne:20280524T020000
DTSTAMP:20260423T075534
CREATED:20251017T125629Z
LAST-MODIFIED:20251017T130247Z
UID:10001833-1842719400-1842746400@dev.peninsulasauna.com.au
SUMMARY:Furocious Bear Night
DESCRIPTION:A night for Bears\, Cubs\, Otters & Pandas…. And those who love them! Cum on in and wet your fur!
URL:https://dev.peninsulasauna.com.au/event/furocious-bear-night-2/2028-05-23/
LOCATION:Wet on Wellington\, 162 Wellington Street\, Collingwood\, VIC\, 3066\, Australia
ATTACH;FMTTYPE=image/jpeg:https://dev.peninsulasauna.com.au/wp-content/uploads/2025/10/Bear-Night-1080p-1.jpg
END:VEVENT
BEGIN:VEVENT
DTSTART;TZID=Australia/Melbourne:20280524T183000
DTEND;TZID=Australia/Melbourne:20280524T183000
DTSTAMP:20260423T075534
CREATED:20251017T054648Z
LAST-MODIFIED:20251017T130309Z
UID:10001573-1842805800-1842805800@dev.peninsulasauna.com.au
SUMMARY:Silver Daddy Night
DESCRIPTION:A night for all our sexy DADDIES and those who love them!
URL:https://dev.peninsulasauna.com.au/event/silver-daddy-night/2028-05-24/
LOCATION:Wet on Wellington\, 162 Wellington Street\, Collingwood\, VIC\, 3066\, Australia
ATTACH;FMTTYPE=image/jpeg:https://dev.peninsulasauna.com.au/wp-content/uploads/2025/10/Silver-2025-1080p.jpg
END:VEVENT
BEGIN:VEVENT
DTSTART;TZID=Australia/Melbourne:20280525T183000
DTEND;TZID=Australia/Melbourne:20280526T020000
DTSTAMP:20260423T075534
CREATED:20251017T054402Z
LAST-MODIFIED:20251017T125958Z
UID:10001312-1842892200-1842919200@dev.peninsulasauna.com.au
SUMMARY:Queer AF
DESCRIPTION:A night for all our Gay\, Bi\, Trans\, Crossdressers and anyone part of our LGBTQI+ community – Whoever you are\, whatever you’re into\, YOU ARE WELCOME!
URL:https://dev.peninsulasauna.com.au/event/queer-af/2028-05-25/
LOCATION:Wet on Wellington\, 162 Wellington Street\, Collingwood\, VIC\, 3066\, Australia
ATTACH;FMTTYPE=image/jpeg:https://dev.peninsulasauna.com.au/wp-content/uploads/2025/10/Queer-AF-updated-2025-1080p.jpg
END:VEVENT
BEGIN:VEVENT
DTSTART;TZID=Australia/Melbourne:20280526T200000
DTEND;TZID=Australia/Melbourne:20280526T230000
DTSTAMP:20260423T075534
CREATED:20251015T075300Z
LAST-MODIFIED:20251017T125532Z
UID:10001051-1842984000-1842994800@dev.peninsulasauna.com.au
SUMMARY:Happy Hour
DESCRIPTION:Kick off the weekend the RIGHT way at Wet on Wellington with Happy Hour every Friday from 8pm till 11pm! \nEnjoy a sauna with a $5 beer or even hang out in the spa with a $6 vodka\, lime and soda! Whatever your poison\, we have it here for Happy Hour! \n$5 OFF SELECT BEER & WINE AND $6 OFF SELECT SPIRITS!! \nDon’t forget we’re also open 24hrs till Monday 2am!!
URL:https://dev.peninsulasauna.com.au/event/happy-hour/2028-05-26/
LOCATION:Wet on Wellington\, 162 Wellington Street\, Collingwood\, VIC\, 3066\, Australia
ATTACH;FMTTYPE=image/png:https://dev.peninsulasauna.com.au/wp-content/uploads/2025/10/Red-Cream-Modern-Happy-Hour-Instagram-Story-1920-x-1080-px-2.png
END:VEVENT
BEGIN:VEVENT
DTSTART;TZID=Australia/Melbourne:20280530T183000
DTEND;TZID=Australia/Melbourne:20280531T020000
DTSTAMP:20260423T075534
CREATED:20251017T125629Z
LAST-MODIFIED:20251017T130247Z
UID:10001834-1843324200-1843351200@dev.peninsulasauna.com.au
SUMMARY:Furocious Bear Night
DESCRIPTION:A night for Bears\, Cubs\, Otters & Pandas…. And those who love them! Cum on in and wet your fur!
URL:https://dev.peninsulasauna.com.au/event/furocious-bear-night-2/2028-05-30/
LOCATION:Wet on Wellington\, 162 Wellington Street\, Collingwood\, VIC\, 3066\, Australia
ATTACH;FMTTYPE=image/jpeg:https://dev.peninsulasauna.com.au/wp-content/uploads/2025/10/Bear-Night-1080p-1.jpg
END:VEVENT
BEGIN:VEVENT
DTSTART;TZID=Australia/Melbourne:20280531T183000
DTEND;TZID=Australia/Melbourne:20280531T183000
DTSTAMP:20260423T075534
CREATED:20251017T054648Z
LAST-MODIFIED:20251017T130309Z
UID:10001574-1843410600-1843410600@dev.peninsulasauna.com.au
SUMMARY:Silver Daddy Night
DESCRIPTION:A night for all our sexy DADDIES and those who love them!
URL:https://dev.peninsulasauna.com.au/event/silver-daddy-night/2028-05-31/
LOCATION:Wet on Wellington\, 162 Wellington Street\, Collingwood\, VIC\, 3066\, Australia
ATTACH;FMTTYPE=image/jpeg:https://dev.peninsulasauna.com.au/wp-content/uploads/2025/10/Silver-2025-1080p.jpg
END:VEVENT
END:VCALENDAR