BEGIN:VCALENDAR
VERSION:2.0
PRODID:-//Wet on Wellington - ECPv6.15.12.2//NONSGML v1.0//EN
CALSCALE:GREGORIAN
METHOD:PUBLISH
X-ORIGINAL-URL:https://dev.peninsulasauna.com.au
X-WR-CALDESC:Events for Wet on Wellington
REFRESH-INTERVAL;VALUE=DURATION:PT1H
X-Robots-Tag:noindex
X-PUBLISHED-TTL:PT1H
BEGIN:VTIMEZONE
TZID:Australia/Melbourne
BEGIN:STANDARD
TZOFFSETFROM:+1100
TZOFFSETTO:+1000
TZNAME:AEST
DTSTART:20290331T160000
END:STANDARD
BEGIN:DAYLIGHT
TZOFFSETFROM:+1000
TZOFFSETTO:+1100
TZNAME:AEDT
DTSTART:20291006T160000
END:DAYLIGHT
BEGIN:STANDARD
TZOFFSETFROM:+1100
TZOFFSETTO:+1000
TZNAME:AEST
DTSTART:20300406T160000
END:STANDARD
BEGIN:DAYLIGHT
TZOFFSETFROM:+1000
TZOFFSETTO:+1100
TZNAME:AEDT
DTSTART:20301005T160000
END:DAYLIGHT
BEGIN:STANDARD
TZOFFSETFROM:+1100
TZOFFSETTO:+1000
TZNAME:AEST
DTSTART:20310405T160000
END:STANDARD
BEGIN:DAYLIGHT
TZOFFSETFROM:+1000
TZOFFSETTO:+1100
TZNAME:AEDT
DTSTART:20311004T160000
END:DAYLIGHT
END:VTIMEZONE
BEGIN:VEVENT
DTSTART;TZID=Australia/Melbourne:20301016T183000
DTEND;TZID=Australia/Melbourne:20301016T183000
DTSTAMP:20260426T014151
CREATED:20251017T054648Z
LAST-MODIFIED:20251017T130309Z
UID:10002155-1918405800-1918405800@dev.peninsulasauna.com.au
SUMMARY:Silver Daddy Night
DESCRIPTION:A night for all our sexy DADDIES and those who love them!
URL:https://dev.peninsulasauna.com.au/event/silver-daddy-night/2030-10-16/
LOCATION:Wet on Wellington\, 162 Wellington Street\, Collingwood\, VIC\, 3066\, Australia
ATTACH;FMTTYPE=image/jpeg:https://dev.peninsulasauna.com.au/wp-content/uploads/2025/10/Silver-2025-1080p.jpg
END:VEVENT
BEGIN:VEVENT
DTSTART;TZID=Australia/Melbourne:20301017T183000
DTEND;TZID=Australia/Melbourne:20301018T020000
DTSTAMP:20260426T014151
CREATED:20251017T054402Z
LAST-MODIFIED:20251017T125958Z
UID:10002154-1918492200-1918519200@dev.peninsulasauna.com.au
SUMMARY:Queer AF
DESCRIPTION:A night for all our Gay\, Bi\, Trans\, Crossdressers and anyone part of our LGBTQI+ community – Whoever you are\, whatever you’re into\, YOU ARE WELCOME!
URL:https://dev.peninsulasauna.com.au/event/queer-af/2030-10-17/
LOCATION:Wet on Wellington\, 162 Wellington Street\, Collingwood\, VIC\, 3066\, Australia
ATTACH;FMTTYPE=image/jpeg:https://dev.peninsulasauna.com.au/wp-content/uploads/2025/10/Queer-AF-updated-2025-1080p.jpg
END:VEVENT
BEGIN:VEVENT
DTSTART;TZID=Australia/Melbourne:20301104T183000
DTEND;TZID=Australia/Melbourne:20301104T183000
DTSTAMP:20260426T014151
CREATED:20251015T074052Z
LAST-MODIFIED:20251122T162807Z
UID:10002243-1920047400-1920047400@dev.peninsulasauna.com.au
SUMMARY:Under 30s Night
DESCRIPTION:It’s time to party it up! \nThe first Monday of every month we dedicate to all boys 30 years old and younger! \nID required at entry. \nVCAT EXEMPTION: #H112/2023
URL:https://dev.peninsulasauna.com.au/event/under-30s-night/2030-11-04/
LOCATION:Wet on Wellington\, 162 Wellington Street\, Collingwood\, VIC\, 3066\, Australia
ATTACH;FMTTYPE=image/jpeg:https://dev.peninsulasauna.com.au/wp-content/uploads/2025/10/Under-30s-2025-1080p.jpg
END:VEVENT
END:VCALENDAR