BEGIN:VCALENDAR
VERSION:2.0
PRODID:-//Wet on Wellington - ECPv6.15.12.2//NONSGML v1.0//EN
CALSCALE:GREGORIAN
METHOD:PUBLISH
X-ORIGINAL-URL:https://dev.peninsulasauna.com.au
X-WR-CALDESC:Events for Wet on Wellington
REFRESH-INTERVAL;VALUE=DURATION:PT1H
X-Robots-Tag:noindex
X-PUBLISHED-TTL:PT1H
BEGIN:VTIMEZONE
TZID:Australia/Melbourne
BEGIN:STANDARD
TZOFFSETFROM:+1100
TZOFFSETTO:+1000
TZNAME:AEST
DTSTART:20280401T160000
END:STANDARD
BEGIN:DAYLIGHT
TZOFFSETFROM:+1000
TZOFFSETTO:+1100
TZNAME:AEDT
DTSTART:20280930T160000
END:DAYLIGHT
BEGIN:STANDARD
TZOFFSETFROM:+1100
TZOFFSETTO:+1000
TZNAME:AEST
DTSTART:20290331T160000
END:STANDARD
BEGIN:DAYLIGHT
TZOFFSETFROM:+1000
TZOFFSETTO:+1100
TZNAME:AEDT
DTSTART:20291006T160000
END:DAYLIGHT
BEGIN:STANDARD
TZOFFSETFROM:+1100
TZOFFSETTO:+1000
TZNAME:AEST
DTSTART:20300406T160000
END:STANDARD
BEGIN:DAYLIGHT
TZOFFSETFROM:+1000
TZOFFSETTO:+1100
TZNAME:AEDT
DTSTART:20301005T160000
END:DAYLIGHT
END:VTIMEZONE
BEGIN:VEVENT
DTSTART;TZID=Australia/Melbourne:20290420T200000
DTEND;TZID=Australia/Melbourne:20290420T230000
DTSTAMP:20260424T030935
CREATED:20251015T075300Z
LAST-MODIFIED:20251017T125532Z
UID:10001098-1871409600-1871420400@dev.peninsulasauna.com.au
SUMMARY:Happy Hour
DESCRIPTION:Kick off the weekend the RIGHT way at Wet on Wellington with Happy Hour every Friday from 8pm till 11pm! \nEnjoy a sauna with a $5 beer or even hang out in the spa with a $6 vodka\, lime and soda! Whatever your poison\, we have it here for Happy Hour! \n$5 OFF SELECT BEER & WINE AND $6 OFF SELECT SPIRITS!! \nDon’t forget we’re also open 24hrs till Monday 2am!!
URL:https://dev.peninsulasauna.com.au/event/happy-hour/2029-04-20/
LOCATION:Wet on Wellington\, 162 Wellington Street\, Collingwood\, VIC\, 3066\, Australia
ATTACH;FMTTYPE=image/png:https://dev.peninsulasauna.com.au/wp-content/uploads/2025/10/Red-Cream-Modern-Happy-Hour-Instagram-Story-1920-x-1080-px-2.png
END:VEVENT
BEGIN:VEVENT
DTSTART;TZID=Australia/Melbourne:20290423T183000
DTEND;TZID=Australia/Melbourne:20290424T020000
DTSTAMP:20260424T030935
CREATED:20251017T033530Z
LAST-MODIFIED:20251017T043251Z
UID:10002051-1871663400-1871690400@dev.peninsulasauna.com.au
SUMMARY:Xposed Nude Night
DESCRIPTION:Strip down and strut your stuff during Nude Night! Time to get those c*ck’s out and those bums up! Let it all hang out and get ‘xposed’ in a non-judgemental space. \nCompulsory nudity venue wide! \n*$35 Entry on a Public Holiday.
URL:https://dev.peninsulasauna.com.au/event/xposed-nude-night/2029-04-23/
LOCATION:Wet on Wellington\, 162 Wellington Street\, Collingwood\, VIC\, 3066\, Australia
ATTACH;FMTTYPE=image/jpeg:https://dev.peninsulasauna.com.au/wp-content/uploads/2025/10/Xposed-Nude-1080P-2.jpg
END:VEVENT
BEGIN:VEVENT
DTSTART;TZID=Australia/Melbourne:20290424T183000
DTEND;TZID=Australia/Melbourne:20290425T020000
DTSTAMP:20260424T030935
CREATED:20251017T125629Z
LAST-MODIFIED:20251017T130247Z
UID:10001881-1871749800-1871776800@dev.peninsulasauna.com.au
SUMMARY:Furocious Bear Night
DESCRIPTION:A night for Bears\, Cubs\, Otters & Pandas…. And those who love them! Cum on in and wet your fur!
URL:https://dev.peninsulasauna.com.au/event/furocious-bear-night-2/2029-04-24/
LOCATION:Wet on Wellington\, 162 Wellington Street\, Collingwood\, VIC\, 3066\, Australia
ATTACH;FMTTYPE=image/jpeg:https://dev.peninsulasauna.com.au/wp-content/uploads/2025/10/Bear-Night-1080p-1.jpg
END:VEVENT
BEGIN:VEVENT
DTSTART;TZID=Australia/Melbourne:20290425T183000
DTEND;TZID=Australia/Melbourne:20290425T183000
DTSTAMP:20260424T030935
CREATED:20251017T054648Z
LAST-MODIFIED:20251017T130309Z
UID:10001621-1871836200-1871836200@dev.peninsulasauna.com.au
SUMMARY:Silver Daddy Night
DESCRIPTION:A night for all our sexy DADDIES and those who love them!
URL:https://dev.peninsulasauna.com.au/event/silver-daddy-night/2029-04-25/
LOCATION:Wet on Wellington\, 162 Wellington Street\, Collingwood\, VIC\, 3066\, Australia
ATTACH;FMTTYPE=image/jpeg:https://dev.peninsulasauna.com.au/wp-content/uploads/2025/10/Silver-2025-1080p.jpg
END:VEVENT
BEGIN:VEVENT
DTSTART;TZID=Australia/Melbourne:20290426T183000
DTEND;TZID=Australia/Melbourne:20290427T020000
DTSTAMP:20260424T030935
CREATED:20251017T054402Z
LAST-MODIFIED:20251017T125958Z
UID:10001360-1871922600-1871949600@dev.peninsulasauna.com.au
SUMMARY:Queer AF
DESCRIPTION:A night for all our Gay\, Bi\, Trans\, Crossdressers and anyone part of our LGBTQI+ community – Whoever you are\, whatever you’re into\, YOU ARE WELCOME!
URL:https://dev.peninsulasauna.com.au/event/queer-af/2029-04-26/
LOCATION:Wet on Wellington\, 162 Wellington Street\, Collingwood\, VIC\, 3066\, Australia
ATTACH;FMTTYPE=image/jpeg:https://dev.peninsulasauna.com.au/wp-content/uploads/2025/10/Queer-AF-updated-2025-1080p.jpg
END:VEVENT
BEGIN:VEVENT
DTSTART;TZID=Australia/Melbourne:20290427T200000
DTEND;TZID=Australia/Melbourne:20290427T230000
DTSTAMP:20260424T030935
CREATED:20251015T075300Z
LAST-MODIFIED:20251017T125532Z
UID:10001099-1872014400-1872025200@dev.peninsulasauna.com.au
SUMMARY:Happy Hour
DESCRIPTION:Kick off the weekend the RIGHT way at Wet on Wellington with Happy Hour every Friday from 8pm till 11pm! \nEnjoy a sauna with a $5 beer or even hang out in the spa with a $6 vodka\, lime and soda! Whatever your poison\, we have it here for Happy Hour! \n$5 OFF SELECT BEER & WINE AND $6 OFF SELECT SPIRITS!! \nDon’t forget we’re also open 24hrs till Monday 2am!!
URL:https://dev.peninsulasauna.com.au/event/happy-hour/2029-04-27/
LOCATION:Wet on Wellington\, 162 Wellington Street\, Collingwood\, VIC\, 3066\, Australia
ATTACH;FMTTYPE=image/png:https://dev.peninsulasauna.com.au/wp-content/uploads/2025/10/Red-Cream-Modern-Happy-Hour-Instagram-Story-1920-x-1080-px-2.png
END:VEVENT
BEGIN:VEVENT
DTSTART;TZID=Australia/Melbourne:20290501T183000
DTEND;TZID=Australia/Melbourne:20290502T020000
DTSTAMP:20260424T030935
CREATED:20251017T125629Z
LAST-MODIFIED:20251017T130247Z
UID:10001882-1872354600-1872381600@dev.peninsulasauna.com.au
SUMMARY:Furocious Bear Night
DESCRIPTION:A night for Bears\, Cubs\, Otters & Pandas…. And those who love them! Cum on in and wet your fur!
URL:https://dev.peninsulasauna.com.au/event/furocious-bear-night-2/2029-05-01/
LOCATION:Wet on Wellington\, 162 Wellington Street\, Collingwood\, VIC\, 3066\, Australia
ATTACH;FMTTYPE=image/jpeg:https://dev.peninsulasauna.com.au/wp-content/uploads/2025/10/Bear-Night-1080p-1.jpg
END:VEVENT
BEGIN:VEVENT
DTSTART;TZID=Australia/Melbourne:20290502T183000
DTEND;TZID=Australia/Melbourne:20290502T183000
DTSTAMP:20260424T030936
CREATED:20251017T054648Z
LAST-MODIFIED:20251017T130309Z
UID:10001622-1872441000-1872441000@dev.peninsulasauna.com.au
SUMMARY:Silver Daddy Night
DESCRIPTION:A night for all our sexy DADDIES and those who love them!
URL:https://dev.peninsulasauna.com.au/event/silver-daddy-night/2029-05-02/
LOCATION:Wet on Wellington\, 162 Wellington Street\, Collingwood\, VIC\, 3066\, Australia
ATTACH;FMTTYPE=image/jpeg:https://dev.peninsulasauna.com.au/wp-content/uploads/2025/10/Silver-2025-1080p.jpg
END:VEVENT
BEGIN:VEVENT
DTSTART;TZID=Australia/Melbourne:20290503T183000
DTEND;TZID=Australia/Melbourne:20290504T020000
DTSTAMP:20260424T030936
CREATED:20251017T054402Z
LAST-MODIFIED:20251017T125958Z
UID:10001361-1872527400-1872554400@dev.peninsulasauna.com.au
SUMMARY:Queer AF
DESCRIPTION:A night for all our Gay\, Bi\, Trans\, Crossdressers and anyone part of our LGBTQI+ community – Whoever you are\, whatever you’re into\, YOU ARE WELCOME!
URL:https://dev.peninsulasauna.com.au/event/queer-af/2029-05-03/
LOCATION:Wet on Wellington\, 162 Wellington Street\, Collingwood\, VIC\, 3066\, Australia
ATTACH;FMTTYPE=image/jpeg:https://dev.peninsulasauna.com.au/wp-content/uploads/2025/10/Queer-AF-updated-2025-1080p.jpg
END:VEVENT
BEGIN:VEVENT
DTSTART;TZID=Australia/Melbourne:20290504T200000
DTEND;TZID=Australia/Melbourne:20290504T230000
DTSTAMP:20260424T030936
CREATED:20251015T075300Z
LAST-MODIFIED:20251017T125532Z
UID:10001100-1872619200-1872630000@dev.peninsulasauna.com.au
SUMMARY:Happy Hour
DESCRIPTION:Kick off the weekend the RIGHT way at Wet on Wellington with Happy Hour every Friday from 8pm till 11pm! \nEnjoy a sauna with a $5 beer or even hang out in the spa with a $6 vodka\, lime and soda! Whatever your poison\, we have it here for Happy Hour! \n$5 OFF SELECT BEER & WINE AND $6 OFF SELECT SPIRITS!! \nDon’t forget we’re also open 24hrs till Monday 2am!!
URL:https://dev.peninsulasauna.com.au/event/happy-hour/2029-05-04/
LOCATION:Wet on Wellington\, 162 Wellington Street\, Collingwood\, VIC\, 3066\, Australia
ATTACH;FMTTYPE=image/png:https://dev.peninsulasauna.com.au/wp-content/uploads/2025/10/Red-Cream-Modern-Happy-Hour-Instagram-Story-1920-x-1080-px-2.png
END:VEVENT
BEGIN:VEVENT
DTSTART;TZID=Australia/Melbourne:20290507T183000
DTEND;TZID=Australia/Melbourne:20290507T183000
DTSTAMP:20260424T030936
CREATED:20251015T074052Z
LAST-MODIFIED:20251122T162807Z
UID:10002225-1872873000-1872873000@dev.peninsulasauna.com.au
SUMMARY:Under 30s Night
DESCRIPTION:It’s time to party it up! \nThe first Monday of every month we dedicate to all boys 30 years old and younger! \nID required at entry. \nVCAT EXEMPTION: #H112/2023
URL:https://dev.peninsulasauna.com.au/event/under-30s-night/2029-05-07/
LOCATION:Wet on Wellington\, 162 Wellington Street\, Collingwood\, VIC\, 3066\, Australia
ATTACH;FMTTYPE=image/jpeg:https://dev.peninsulasauna.com.au/wp-content/uploads/2025/10/Under-30s-2025-1080p.jpg
END:VEVENT
BEGIN:VEVENT
DTSTART;TZID=Australia/Melbourne:20290508T183000
DTEND;TZID=Australia/Melbourne:20290509T020000
DTSTAMP:20260424T030936
CREATED:20251017T125629Z
LAST-MODIFIED:20251017T130247Z
UID:10001883-1872959400-1872986400@dev.peninsulasauna.com.au
SUMMARY:Furocious Bear Night
DESCRIPTION:A night for Bears\, Cubs\, Otters & Pandas…. And those who love them! Cum on in and wet your fur!
URL:https://dev.peninsulasauna.com.au/event/furocious-bear-night-2/2029-05-08/
LOCATION:Wet on Wellington\, 162 Wellington Street\, Collingwood\, VIC\, 3066\, Australia
ATTACH;FMTTYPE=image/jpeg:https://dev.peninsulasauna.com.au/wp-content/uploads/2025/10/Bear-Night-1080p-1.jpg
END:VEVENT
BEGIN:VEVENT
DTSTART;TZID=Australia/Melbourne:20290509T183000
DTEND;TZID=Australia/Melbourne:20290509T183000
DTSTAMP:20260424T030936
CREATED:20251017T054648Z
LAST-MODIFIED:20251017T130309Z
UID:10001623-1873045800-1873045800@dev.peninsulasauna.com.au
SUMMARY:Silver Daddy Night
DESCRIPTION:A night for all our sexy DADDIES and those who love them!
URL:https://dev.peninsulasauna.com.au/event/silver-daddy-night/2029-05-09/
LOCATION:Wet on Wellington\, 162 Wellington Street\, Collingwood\, VIC\, 3066\, Australia
ATTACH;FMTTYPE=image/jpeg:https://dev.peninsulasauna.com.au/wp-content/uploads/2025/10/Silver-2025-1080p.jpg
END:VEVENT
BEGIN:VEVENT
DTSTART;TZID=Australia/Melbourne:20290510T183000
DTEND;TZID=Australia/Melbourne:20290511T020000
DTSTAMP:20260424T030936
CREATED:20251017T054402Z
LAST-MODIFIED:20251017T125958Z
UID:10001362-1873132200-1873159200@dev.peninsulasauna.com.au
SUMMARY:Queer AF
DESCRIPTION:A night for all our Gay\, Bi\, Trans\, Crossdressers and anyone part of our LGBTQI+ community – Whoever you are\, whatever you’re into\, YOU ARE WELCOME!
URL:https://dev.peninsulasauna.com.au/event/queer-af/2029-05-10/
LOCATION:Wet on Wellington\, 162 Wellington Street\, Collingwood\, VIC\, 3066\, Australia
ATTACH;FMTTYPE=image/jpeg:https://dev.peninsulasauna.com.au/wp-content/uploads/2025/10/Queer-AF-updated-2025-1080p.jpg
END:VEVENT
BEGIN:VEVENT
DTSTART;TZID=Australia/Melbourne:20290511T200000
DTEND;TZID=Australia/Melbourne:20290511T230000
DTSTAMP:20260424T030936
CREATED:20251015T075300Z
LAST-MODIFIED:20251017T125532Z
UID:10001101-1873224000-1873234800@dev.peninsulasauna.com.au
SUMMARY:Happy Hour
DESCRIPTION:Kick off the weekend the RIGHT way at Wet on Wellington with Happy Hour every Friday from 8pm till 11pm! \nEnjoy a sauna with a $5 beer or even hang out in the spa with a $6 vodka\, lime and soda! Whatever your poison\, we have it here for Happy Hour! \n$5 OFF SELECT BEER & WINE AND $6 OFF SELECT SPIRITS!! \nDon’t forget we’re also open 24hrs till Monday 2am!!
URL:https://dev.peninsulasauna.com.au/event/happy-hour/2029-05-11/
LOCATION:Wet on Wellington\, 162 Wellington Street\, Collingwood\, VIC\, 3066\, Australia
ATTACH;FMTTYPE=image/png:https://dev.peninsulasauna.com.au/wp-content/uploads/2025/10/Red-Cream-Modern-Happy-Hour-Instagram-Story-1920-x-1080-px-2.png
END:VEVENT
BEGIN:VEVENT
DTSTART;TZID=Australia/Melbourne:20290514T183000
DTEND;TZID=Australia/Melbourne:20290515T020000
DTSTAMP:20260424T030936
CREATED:20251017T033530Z
LAST-MODIFIED:20251017T043251Z
UID:10002052-1873477800-1873504800@dev.peninsulasauna.com.au
SUMMARY:Xposed Nude Night
DESCRIPTION:Strip down and strut your stuff during Nude Night! Time to get those c*ck’s out and those bums up! Let it all hang out and get ‘xposed’ in a non-judgemental space. \nCompulsory nudity venue wide! \n*$35 Entry on a Public Holiday.
URL:https://dev.peninsulasauna.com.au/event/xposed-nude-night/2029-05-14/
LOCATION:Wet on Wellington\, 162 Wellington Street\, Collingwood\, VIC\, 3066\, Australia
ATTACH;FMTTYPE=image/jpeg:https://dev.peninsulasauna.com.au/wp-content/uploads/2025/10/Xposed-Nude-1080P-2.jpg
END:VEVENT
BEGIN:VEVENT
DTSTART;TZID=Australia/Melbourne:20290515T183000
DTEND;TZID=Australia/Melbourne:20290516T020000
DTSTAMP:20260424T030936
CREATED:20251017T125629Z
LAST-MODIFIED:20251017T130247Z
UID:10001884-1873564200-1873591200@dev.peninsulasauna.com.au
SUMMARY:Furocious Bear Night
DESCRIPTION:A night for Bears\, Cubs\, Otters & Pandas…. And those who love them! Cum on in and wet your fur!
URL:https://dev.peninsulasauna.com.au/event/furocious-bear-night-2/2029-05-15/
LOCATION:Wet on Wellington\, 162 Wellington Street\, Collingwood\, VIC\, 3066\, Australia
ATTACH;FMTTYPE=image/jpeg:https://dev.peninsulasauna.com.au/wp-content/uploads/2025/10/Bear-Night-1080p-1.jpg
END:VEVENT
BEGIN:VEVENT
DTSTART;TZID=Australia/Melbourne:20290516T183000
DTEND;TZID=Australia/Melbourne:20290516T183000
DTSTAMP:20260424T030936
CREATED:20251017T054648Z
LAST-MODIFIED:20251017T130309Z
UID:10001624-1873650600-1873650600@dev.peninsulasauna.com.au
SUMMARY:Silver Daddy Night
DESCRIPTION:A night for all our sexy DADDIES and those who love them!
URL:https://dev.peninsulasauna.com.au/event/silver-daddy-night/2029-05-16/
LOCATION:Wet on Wellington\, 162 Wellington Street\, Collingwood\, VIC\, 3066\, Australia
ATTACH;FMTTYPE=image/jpeg:https://dev.peninsulasauna.com.au/wp-content/uploads/2025/10/Silver-2025-1080p.jpg
END:VEVENT
BEGIN:VEVENT
DTSTART;TZID=Australia/Melbourne:20290517T183000
DTEND;TZID=Australia/Melbourne:20290518T020000
DTSTAMP:20260424T030936
CREATED:20251017T054402Z
LAST-MODIFIED:20251017T125958Z
UID:10001363-1873737000-1873764000@dev.peninsulasauna.com.au
SUMMARY:Queer AF
DESCRIPTION:A night for all our Gay\, Bi\, Trans\, Crossdressers and anyone part of our LGBTQI+ community – Whoever you are\, whatever you’re into\, YOU ARE WELCOME!
URL:https://dev.peninsulasauna.com.au/event/queer-af/2029-05-17/
LOCATION:Wet on Wellington\, 162 Wellington Street\, Collingwood\, VIC\, 3066\, Australia
ATTACH;FMTTYPE=image/jpeg:https://dev.peninsulasauna.com.au/wp-content/uploads/2025/10/Queer-AF-updated-2025-1080p.jpg
END:VEVENT
BEGIN:VEVENT
DTSTART;TZID=Australia/Melbourne:20290518T200000
DTEND;TZID=Australia/Melbourne:20290518T230000
DTSTAMP:20260424T030936
CREATED:20251015T075300Z
LAST-MODIFIED:20251017T125532Z
UID:10001102-1873828800-1873839600@dev.peninsulasauna.com.au
SUMMARY:Happy Hour
DESCRIPTION:Kick off the weekend the RIGHT way at Wet on Wellington with Happy Hour every Friday from 8pm till 11pm! \nEnjoy a sauna with a $5 beer or even hang out in the spa with a $6 vodka\, lime and soda! Whatever your poison\, we have it here for Happy Hour! \n$5 OFF SELECT BEER & WINE AND $6 OFF SELECT SPIRITS!! \nDon’t forget we’re also open 24hrs till Monday 2am!!
URL:https://dev.peninsulasauna.com.au/event/happy-hour/2029-05-18/
LOCATION:Wet on Wellington\, 162 Wellington Street\, Collingwood\, VIC\, 3066\, Australia
ATTACH;FMTTYPE=image/png:https://dev.peninsulasauna.com.au/wp-content/uploads/2025/10/Red-Cream-Modern-Happy-Hour-Instagram-Story-1920-x-1080-px-2.png
END:VEVENT
BEGIN:VEVENT
DTSTART;TZID=Australia/Melbourne:20290521T190000
DTEND;TZID=Australia/Melbourne:20290522T020000
DTSTAMP:20260424T030936
CREATED:20251015T074736Z
LAST-MODIFIED:20251017T054344Z
UID:10000638-1874084400-1874109600@dev.peninsulasauna.com.au
SUMMARY:Swingers Couples Pool Party
DESCRIPTION:$100 COUPLES\, $45 LADIES\, $350 SINGLE MEN* | Melbourne’ s most luxurious and erotic Men’s Club opens its doors for Swingers to engage in the sensuality of a naked and uninhibited Pool Party. Guests can indulge in all of the erotic and luxurious facilities that Wet On Wellington is famous for. \n*Single Men are required to pre-book by calling the venue on (03) 9419 2210. \nPlease note: Couples that arrive together must also depart together as a couple. Females can not depart without their male partner. Men are NOT allowed to be upstairs without a female partner unless entered as a Single Male.
URL:https://dev.peninsulasauna.com.au/event/swingers-couples-pool-party/2029-05-21/
LOCATION:Wet on Wellington\, 162 Wellington Street\, Collingwood\, VIC\, 3066\, Australia
ATTACH;FMTTYPE=image/jpeg:https://dev.peninsulasauna.com.au/wp-content/uploads/2025/10/Swingers-Couples-Pool-Party-1080p-2025.jpg
ORGANIZER;CN="Melbourne Swingers":MAILTO:info@melbourne-swingers.com.au
END:VEVENT
BEGIN:VEVENT
DTSTART;TZID=Australia/Melbourne:20290522T183000
DTEND;TZID=Australia/Melbourne:20290523T020000
DTSTAMP:20260424T030936
CREATED:20251017T125629Z
LAST-MODIFIED:20251017T130247Z
UID:10001885-1874169000-1874196000@dev.peninsulasauna.com.au
SUMMARY:Furocious Bear Night
DESCRIPTION:A night for Bears\, Cubs\, Otters & Pandas…. And those who love them! Cum on in and wet your fur!
URL:https://dev.peninsulasauna.com.au/event/furocious-bear-night-2/2029-05-22/
LOCATION:Wet on Wellington\, 162 Wellington Street\, Collingwood\, VIC\, 3066\, Australia
ATTACH;FMTTYPE=image/jpeg:https://dev.peninsulasauna.com.au/wp-content/uploads/2025/10/Bear-Night-1080p-1.jpg
END:VEVENT
BEGIN:VEVENT
DTSTART;TZID=Australia/Melbourne:20290523T183000
DTEND;TZID=Australia/Melbourne:20290523T183000
DTSTAMP:20260424T030936
CREATED:20251017T054648Z
LAST-MODIFIED:20251017T130309Z
UID:10001625-1874255400-1874255400@dev.peninsulasauna.com.au
SUMMARY:Silver Daddy Night
DESCRIPTION:A night for all our sexy DADDIES and those who love them!
URL:https://dev.peninsulasauna.com.au/event/silver-daddy-night/2029-05-23/
LOCATION:Wet on Wellington\, 162 Wellington Street\, Collingwood\, VIC\, 3066\, Australia
ATTACH;FMTTYPE=image/jpeg:https://dev.peninsulasauna.com.au/wp-content/uploads/2025/10/Silver-2025-1080p.jpg
END:VEVENT
BEGIN:VEVENT
DTSTART;TZID=Australia/Melbourne:20290524T183000
DTEND;TZID=Australia/Melbourne:20290525T020000
DTSTAMP:20260424T030936
CREATED:20251017T054402Z
LAST-MODIFIED:20251017T125958Z
UID:10001364-1874341800-1874368800@dev.peninsulasauna.com.au
SUMMARY:Queer AF
DESCRIPTION:A night for all our Gay\, Bi\, Trans\, Crossdressers and anyone part of our LGBTQI+ community – Whoever you are\, whatever you’re into\, YOU ARE WELCOME!
URL:https://dev.peninsulasauna.com.au/event/queer-af/2029-05-24/
LOCATION:Wet on Wellington\, 162 Wellington Street\, Collingwood\, VIC\, 3066\, Australia
ATTACH;FMTTYPE=image/jpeg:https://dev.peninsulasauna.com.au/wp-content/uploads/2025/10/Queer-AF-updated-2025-1080p.jpg
END:VEVENT
BEGIN:VEVENT
DTSTART;TZID=Australia/Melbourne:20290525T200000
DTEND;TZID=Australia/Melbourne:20290525T230000
DTSTAMP:20260424T030936
CREATED:20251015T075300Z
LAST-MODIFIED:20251017T125532Z
UID:10001103-1874433600-1874444400@dev.peninsulasauna.com.au
SUMMARY:Happy Hour
DESCRIPTION:Kick off the weekend the RIGHT way at Wet on Wellington with Happy Hour every Friday from 8pm till 11pm! \nEnjoy a sauna with a $5 beer or even hang out in the spa with a $6 vodka\, lime and soda! Whatever your poison\, we have it here for Happy Hour! \n$5 OFF SELECT BEER & WINE AND $6 OFF SELECT SPIRITS!! \nDon’t forget we’re also open 24hrs till Monday 2am!!
URL:https://dev.peninsulasauna.com.au/event/happy-hour/2029-05-25/
LOCATION:Wet on Wellington\, 162 Wellington Street\, Collingwood\, VIC\, 3066\, Australia
ATTACH;FMTTYPE=image/png:https://dev.peninsulasauna.com.au/wp-content/uploads/2025/10/Red-Cream-Modern-Happy-Hour-Instagram-Story-1920-x-1080-px-2.png
END:VEVENT
BEGIN:VEVENT
DTSTART;TZID=Australia/Melbourne:20290528T183000
DTEND;TZID=Australia/Melbourne:20290529T020000
DTSTAMP:20260424T030936
CREATED:20251017T033530Z
LAST-MODIFIED:20251017T043251Z
UID:10002053-1874687400-1874714400@dev.peninsulasauna.com.au
SUMMARY:Xposed Nude Night
DESCRIPTION:Strip down and strut your stuff during Nude Night! Time to get those c*ck’s out and those bums up! Let it all hang out and get ‘xposed’ in a non-judgemental space. \nCompulsory nudity venue wide! \n*$35 Entry on a Public Holiday.
URL:https://dev.peninsulasauna.com.au/event/xposed-nude-night/2029-05-28/
LOCATION:Wet on Wellington\, 162 Wellington Street\, Collingwood\, VIC\, 3066\, Australia
ATTACH;FMTTYPE=image/jpeg:https://dev.peninsulasauna.com.au/wp-content/uploads/2025/10/Xposed-Nude-1080P-2.jpg
END:VEVENT
BEGIN:VEVENT
DTSTART;TZID=Australia/Melbourne:20290529T183000
DTEND;TZID=Australia/Melbourne:20290530T020000
DTSTAMP:20260424T030936
CREATED:20251017T125629Z
LAST-MODIFIED:20251017T130247Z
UID:10001886-1874773800-1874800800@dev.peninsulasauna.com.au
SUMMARY:Furocious Bear Night
DESCRIPTION:A night for Bears\, Cubs\, Otters & Pandas…. And those who love them! Cum on in and wet your fur!
URL:https://dev.peninsulasauna.com.au/event/furocious-bear-night-2/2029-05-29/
LOCATION:Wet on Wellington\, 162 Wellington Street\, Collingwood\, VIC\, 3066\, Australia
ATTACH;FMTTYPE=image/jpeg:https://dev.peninsulasauna.com.au/wp-content/uploads/2025/10/Bear-Night-1080p-1.jpg
END:VEVENT
BEGIN:VEVENT
DTSTART;TZID=Australia/Melbourne:20290530T183000
DTEND;TZID=Australia/Melbourne:20290530T183000
DTSTAMP:20260424T030936
CREATED:20251017T054648Z
LAST-MODIFIED:20251017T130309Z
UID:10001626-1874860200-1874860200@dev.peninsulasauna.com.au
SUMMARY:Silver Daddy Night
DESCRIPTION:A night for all our sexy DADDIES and those who love them!
URL:https://dev.peninsulasauna.com.au/event/silver-daddy-night/2029-05-30/
LOCATION:Wet on Wellington\, 162 Wellington Street\, Collingwood\, VIC\, 3066\, Australia
ATTACH;FMTTYPE=image/jpeg:https://dev.peninsulasauna.com.au/wp-content/uploads/2025/10/Silver-2025-1080p.jpg
END:VEVENT
BEGIN:VEVENT
DTSTART;TZID=Australia/Melbourne:20290531T183000
DTEND;TZID=Australia/Melbourne:20290601T020000
DTSTAMP:20260424T030936
CREATED:20251017T054402Z
LAST-MODIFIED:20251017T125958Z
UID:10001365-1874946600-1874973600@dev.peninsulasauna.com.au
SUMMARY:Queer AF
DESCRIPTION:A night for all our Gay\, Bi\, Trans\, Crossdressers and anyone part of our LGBTQI+ community – Whoever you are\, whatever you’re into\, YOU ARE WELCOME!
URL:https://dev.peninsulasauna.com.au/event/queer-af/2029-05-31/
LOCATION:Wet on Wellington\, 162 Wellington Street\, Collingwood\, VIC\, 3066\, Australia
ATTACH;FMTTYPE=image/jpeg:https://dev.peninsulasauna.com.au/wp-content/uploads/2025/10/Queer-AF-updated-2025-1080p.jpg
END:VEVENT
BEGIN:VEVENT
DTSTART;TZID=Australia/Melbourne:20290601T200000
DTEND;TZID=Australia/Melbourne:20290601T230000
DTSTAMP:20260424T030936
CREATED:20251015T075300Z
LAST-MODIFIED:20251017T125532Z
UID:10001104-1875038400-1875049200@dev.peninsulasauna.com.au
SUMMARY:Happy Hour
DESCRIPTION:Kick off the weekend the RIGHT way at Wet on Wellington with Happy Hour every Friday from 8pm till 11pm! \nEnjoy a sauna with a $5 beer or even hang out in the spa with a $6 vodka\, lime and soda! Whatever your poison\, we have it here for Happy Hour! \n$5 OFF SELECT BEER & WINE AND $6 OFF SELECT SPIRITS!! \nDon’t forget we’re also open 24hrs till Monday 2am!!
URL:https://dev.peninsulasauna.com.au/event/happy-hour/2029-06-01/
LOCATION:Wet on Wellington\, 162 Wellington Street\, Collingwood\, VIC\, 3066\, Australia
ATTACH;FMTTYPE=image/png:https://dev.peninsulasauna.com.au/wp-content/uploads/2025/10/Red-Cream-Modern-Happy-Hour-Instagram-Story-1920-x-1080-px-2.png
END:VEVENT
END:VCALENDAR