BEGIN:VCALENDAR
VERSION:2.0
PRODID:-//Wet on Wellington - ECPv6.15.12.2//NONSGML v1.0//EN
CALSCALE:GREGORIAN
METHOD:PUBLISH
X-WR-CALNAME:Wet on Wellington
X-ORIGINAL-URL:https://dev.peninsulasauna.com.au
X-WR-CALDESC:Events for Wet on Wellington
REFRESH-INTERVAL;VALUE=DURATION:PT1H
X-Robots-Tag:noindex
X-PUBLISHED-TTL:PT1H
BEGIN:VTIMEZONE
TZID:Australia/Melbourne
BEGIN:STANDARD
TZOFFSETFROM:+1100
TZOFFSETTO:+1000
TZNAME:AEST
DTSTART:20250405T160000
END:STANDARD
BEGIN:DAYLIGHT
TZOFFSETFROM:+1000
TZOFFSETTO:+1100
TZNAME:AEDT
DTSTART:20251004T160000
END:DAYLIGHT
BEGIN:STANDARD
TZOFFSETFROM:+1100
TZOFFSETTO:+1000
TZNAME:AEST
DTSTART:20260404T160000
END:STANDARD
BEGIN:DAYLIGHT
TZOFFSETFROM:+1000
TZOFFSETTO:+1100
TZNAME:AEDT
DTSTART:20261003T160000
END:DAYLIGHT
BEGIN:STANDARD
TZOFFSETFROM:+1100
TZOFFSETTO:+1000
TZNAME:AEST
DTSTART:20270403T160000
END:STANDARD
BEGIN:DAYLIGHT
TZOFFSETFROM:+1000
TZOFFSETTO:+1100
TZNAME:AEDT
DTSTART:20271002T160000
END:DAYLIGHT
END:VTIMEZONE
BEGIN:VEVENT
DTSTART;TZID=Australia/Melbourne:20260819T183000
DTEND;TZID=Australia/Melbourne:20260819T183000
DTSTAMP:20260422T072228
CREATED:20251017T054648Z
LAST-MODIFIED:20251017T130309Z
UID:10001481-1787164200-1787164200@dev.peninsulasauna.com.au
SUMMARY:Silver Daddy Night
DESCRIPTION:A night for all our sexy DADDIES and those who love them!
URL:https://dev.peninsulasauna.com.au/event/silver-daddy-night/2026-08-19/
LOCATION:Wet on Wellington\, 162 Wellington Street\, Collingwood\, VIC\, 3066\, Australia
ATTACH;FMTTYPE=image/jpeg:https://dev.peninsulasauna.com.au/wp-content/uploads/2025/10/Silver-2025-1080p.jpg
END:VEVENT
BEGIN:VEVENT
DTSTART;TZID=Australia/Melbourne:20260818T183000
DTEND;TZID=Australia/Melbourne:20260819T020000
DTSTAMP:20260422T072228
CREATED:20251017T125629Z
LAST-MODIFIED:20251017T130247Z
UID:10001741-1787077800-1787104800@dev.peninsulasauna.com.au
SUMMARY:Furocious Bear Night
DESCRIPTION:A night for Bears\, Cubs\, Otters & Pandas…. And those who love them! Cum on in and wet your fur!
URL:https://dev.peninsulasauna.com.au/event/furocious-bear-night-2/2026-08-18/
LOCATION:Wet on Wellington\, 162 Wellington Street\, Collingwood\, VIC\, 3066\, Australia
ATTACH;FMTTYPE=image/jpeg:https://dev.peninsulasauna.com.au/wp-content/uploads/2025/10/Bear-Night-1080p-1.jpg
END:VEVENT
BEGIN:VEVENT
DTSTART;TZID=Australia/Melbourne:20260817T190000
DTEND;TZID=Australia/Melbourne:20260818T020000
DTSTAMP:20260422T072228
CREATED:20251015T074736Z
LAST-MODIFIED:20251017T054344Z
UID:10000605-1786993200-1787018400@dev.peninsulasauna.com.au
SUMMARY:Swingers Couples Pool Party
DESCRIPTION:$100 COUPLES\, $45 LADIES\, $350 SINGLE MEN* | Melbourne’ s most luxurious and erotic Men’s Club opens its doors for Swingers to engage in the sensuality of a naked and uninhibited Pool Party. Guests can indulge in all of the erotic and luxurious facilities that Wet On Wellington is famous for. \n*Single Men are required to pre-book by calling the venue on (03) 9419 2210. \nPlease note: Couples that arrive together must also depart together as a couple. Females can not depart without their male partner. Men are NOT allowed to be upstairs without a female partner unless entered as a Single Male.
URL:https://dev.peninsulasauna.com.au/event/swingers-couples-pool-party/2026-08-17/
LOCATION:Wet on Wellington\, 162 Wellington Street\, Collingwood\, VIC\, 3066\, Australia
ATTACH;FMTTYPE=image/jpeg:https://dev.peninsulasauna.com.au/wp-content/uploads/2025/10/Swingers-Couples-Pool-Party-1080p-2025.jpg
ORGANIZER;CN="Melbourne Swingers":MAILTO:info@melbourne-swingers.com.au
END:VEVENT
BEGIN:VEVENT
DTSTART;TZID=Australia/Melbourne:20260814T200000
DTEND;TZID=Australia/Melbourne:20260814T230000
DTSTAMP:20260422T072228
CREATED:20251015T075300Z
LAST-MODIFIED:20251017T125532Z
UID:10000958-1786737600-1786748400@dev.peninsulasauna.com.au
SUMMARY:Happy Hour
DESCRIPTION:Kick off the weekend the RIGHT way at Wet on Wellington with Happy Hour every Friday from 8pm till 11pm! \nEnjoy a sauna with a $5 beer or even hang out in the spa with a $6 vodka\, lime and soda! Whatever your poison\, we have it here for Happy Hour! \n$5 OFF SELECT BEER & WINE AND $6 OFF SELECT SPIRITS!! \nDon’t forget we’re also open 24hrs till Monday 2am!!
URL:https://dev.peninsulasauna.com.au/event/happy-hour/2026-08-14/
LOCATION:Wet on Wellington\, 162 Wellington Street\, Collingwood\, VIC\, 3066\, Australia
ATTACH;FMTTYPE=image/png:https://dev.peninsulasauna.com.au/wp-content/uploads/2025/10/Red-Cream-Modern-Happy-Hour-Instagram-Story-1920-x-1080-px-2.png
END:VEVENT
BEGIN:VEVENT
DTSTART;TZID=Australia/Melbourne:20260813T183000
DTEND;TZID=Australia/Melbourne:20260814T020000
DTSTAMP:20260422T072228
CREATED:20251017T054402Z
LAST-MODIFIED:20251017T125958Z
UID:10001219-1786645800-1786672800@dev.peninsulasauna.com.au
SUMMARY:Queer AF
DESCRIPTION:A night for all our Gay\, Bi\, Trans\, Crossdressers and anyone part of our LGBTQI+ community – Whoever you are\, whatever you’re into\, YOU ARE WELCOME!
URL:https://dev.peninsulasauna.com.au/event/queer-af/2026-08-13/
LOCATION:Wet on Wellington\, 162 Wellington Street\, Collingwood\, VIC\, 3066\, Australia
ATTACH;FMTTYPE=image/jpeg:https://dev.peninsulasauna.com.au/wp-content/uploads/2025/10/Queer-AF-updated-2025-1080p.jpg
END:VEVENT
BEGIN:VEVENT
DTSTART;TZID=Australia/Melbourne:20260812T183000
DTEND;TZID=Australia/Melbourne:20260812T183000
DTSTAMP:20260422T072228
CREATED:20251017T054648Z
LAST-MODIFIED:20251017T130309Z
UID:10001480-1786559400-1786559400@dev.peninsulasauna.com.au
SUMMARY:Silver Daddy Night
DESCRIPTION:A night for all our sexy DADDIES and those who love them!
URL:https://dev.peninsulasauna.com.au/event/silver-daddy-night/2026-08-12/
LOCATION:Wet on Wellington\, 162 Wellington Street\, Collingwood\, VIC\, 3066\, Australia
ATTACH;FMTTYPE=image/jpeg:https://dev.peninsulasauna.com.au/wp-content/uploads/2025/10/Silver-2025-1080p.jpg
END:VEVENT
BEGIN:VEVENT
DTSTART;TZID=Australia/Melbourne:20260811T183000
DTEND;TZID=Australia/Melbourne:20260812T020000
DTSTAMP:20260422T072228
CREATED:20251017T125629Z
LAST-MODIFIED:20251017T130247Z
UID:10001740-1786473000-1786500000@dev.peninsulasauna.com.au
SUMMARY:Furocious Bear Night
DESCRIPTION:A night for Bears\, Cubs\, Otters & Pandas…. And those who love them! Cum on in and wet your fur!
URL:https://dev.peninsulasauna.com.au/event/furocious-bear-night-2/2026-08-11/
LOCATION:Wet on Wellington\, 162 Wellington Street\, Collingwood\, VIC\, 3066\, Australia
ATTACH;FMTTYPE=image/jpeg:https://dev.peninsulasauna.com.au/wp-content/uploads/2025/10/Bear-Night-1080p-1.jpg
END:VEVENT
BEGIN:VEVENT
DTSTART;TZID=Australia/Melbourne:20260810T183000
DTEND;TZID=Australia/Melbourne:20260811T020000
DTSTAMP:20260422T072228
CREATED:20251017T033530Z
LAST-MODIFIED:20251017T043251Z
UID:10001986-1786386600-1786413600@dev.peninsulasauna.com.au
SUMMARY:Xposed Nude Night
DESCRIPTION:Strip down and strut your stuff during Nude Night! Time to get those c*ck’s out and those bums up! Let it all hang out and get ‘xposed’ in a non-judgemental space. \nCompulsory nudity venue wide! \n*$35 Entry on a Public Holiday.
URL:https://dev.peninsulasauna.com.au/event/xposed-nude-night/2026-08-10/
LOCATION:Wet on Wellington\, 162 Wellington Street\, Collingwood\, VIC\, 3066\, Australia
ATTACH;FMTTYPE=image/jpeg:https://dev.peninsulasauna.com.au/wp-content/uploads/2025/10/Xposed-Nude-1080P-2.jpg
END:VEVENT
BEGIN:VEVENT
DTSTART;TZID=Australia/Melbourne:20260807T200000
DTEND;TZID=Australia/Melbourne:20260807T230000
DTSTAMP:20260422T072228
CREATED:20251015T075300Z
LAST-MODIFIED:20251017T125532Z
UID:10000957-1786132800-1786143600@dev.peninsulasauna.com.au
SUMMARY:Happy Hour
DESCRIPTION:Kick off the weekend the RIGHT way at Wet on Wellington with Happy Hour every Friday from 8pm till 11pm! \nEnjoy a sauna with a $5 beer or even hang out in the spa with a $6 vodka\, lime and soda! Whatever your poison\, we have it here for Happy Hour! \n$5 OFF SELECT BEER & WINE AND $6 OFF SELECT SPIRITS!! \nDon’t forget we’re also open 24hrs till Monday 2am!!
URL:https://dev.peninsulasauna.com.au/event/happy-hour/2026-08-07/
LOCATION:Wet on Wellington\, 162 Wellington Street\, Collingwood\, VIC\, 3066\, Australia
ATTACH;FMTTYPE=image/png:https://dev.peninsulasauna.com.au/wp-content/uploads/2025/10/Red-Cream-Modern-Happy-Hour-Instagram-Story-1920-x-1080-px-2.png
END:VEVENT
BEGIN:VEVENT
DTSTART;TZID=Australia/Melbourne:20260806T183000
DTEND;TZID=Australia/Melbourne:20260807T020000
DTSTAMP:20260422T072228
CREATED:20251017T054402Z
LAST-MODIFIED:20251017T125958Z
UID:10001218-1786041000-1786068000@dev.peninsulasauna.com.au
SUMMARY:Queer AF
DESCRIPTION:A night for all our Gay\, Bi\, Trans\, Crossdressers and anyone part of our LGBTQI+ community – Whoever you are\, whatever you’re into\, YOU ARE WELCOME!
URL:https://dev.peninsulasauna.com.au/event/queer-af/2026-08-06/
LOCATION:Wet on Wellington\, 162 Wellington Street\, Collingwood\, VIC\, 3066\, Australia
ATTACH;FMTTYPE=image/jpeg:https://dev.peninsulasauna.com.au/wp-content/uploads/2025/10/Queer-AF-updated-2025-1080p.jpg
END:VEVENT
BEGIN:VEVENT
DTSTART;TZID=Australia/Melbourne:20260805T183000
DTEND;TZID=Australia/Melbourne:20260805T183000
DTSTAMP:20260422T072228
CREATED:20251017T054648Z
LAST-MODIFIED:20251017T130309Z
UID:10001479-1785954600-1785954600@dev.peninsulasauna.com.au
SUMMARY:Silver Daddy Night
DESCRIPTION:A night for all our sexy DADDIES and those who love them!
URL:https://dev.peninsulasauna.com.au/event/silver-daddy-night/2026-08-05/
LOCATION:Wet on Wellington\, 162 Wellington Street\, Collingwood\, VIC\, 3066\, Australia
ATTACH;FMTTYPE=image/jpeg:https://dev.peninsulasauna.com.au/wp-content/uploads/2025/10/Silver-2025-1080p.jpg
END:VEVENT
BEGIN:VEVENT
DTSTART;TZID=Australia/Melbourne:20260804T183000
DTEND;TZID=Australia/Melbourne:20260805T020000
DTSTAMP:20260422T072228
CREATED:20251017T125629Z
LAST-MODIFIED:20251017T130247Z
UID:10001739-1785868200-1785895200@dev.peninsulasauna.com.au
SUMMARY:Furocious Bear Night
DESCRIPTION:A night for Bears\, Cubs\, Otters & Pandas…. And those who love them! Cum on in and wet your fur!
URL:https://dev.peninsulasauna.com.au/event/furocious-bear-night-2/2026-08-04/
LOCATION:Wet on Wellington\, 162 Wellington Street\, Collingwood\, VIC\, 3066\, Australia
ATTACH;FMTTYPE=image/jpeg:https://dev.peninsulasauna.com.au/wp-content/uploads/2025/10/Bear-Night-1080p-1.jpg
END:VEVENT
BEGIN:VEVENT
DTSTART;TZID=Australia/Melbourne:20260803T183000
DTEND;TZID=Australia/Melbourne:20260803T183000
DTSTAMP:20260422T072228
CREATED:20251015T074052Z
LAST-MODIFIED:20251122T162807Z
UID:10002192-1785781800-1785781800@dev.peninsulasauna.com.au
SUMMARY:Under 30s Night
DESCRIPTION:It’s time to party it up! \nThe first Monday of every month we dedicate to all boys 30 years old and younger! \nID required at entry. \nVCAT EXEMPTION: #H112/2023
URL:https://dev.peninsulasauna.com.au/event/under-30s-night/2026-08-03/
LOCATION:Wet on Wellington\, 162 Wellington Street\, Collingwood\, VIC\, 3066\, Australia
ATTACH;FMTTYPE=image/jpeg:https://dev.peninsulasauna.com.au/wp-content/uploads/2025/10/Under-30s-2025-1080p.jpg
END:VEVENT
BEGIN:VEVENT
DTSTART;TZID=Australia/Melbourne:20260731T200000
DTEND;TZID=Australia/Melbourne:20260731T230000
DTSTAMP:20260422T072229
CREATED:20251015T075300Z
LAST-MODIFIED:20251017T125532Z
UID:10000956-1785528000-1785538800@dev.peninsulasauna.com.au
SUMMARY:Happy Hour
DESCRIPTION:Kick off the weekend the RIGHT way at Wet on Wellington with Happy Hour every Friday from 8pm till 11pm! \nEnjoy a sauna with a $5 beer or even hang out in the spa with a $6 vodka\, lime and soda! Whatever your poison\, we have it here for Happy Hour! \n$5 OFF SELECT BEER & WINE AND $6 OFF SELECT SPIRITS!! \nDon’t forget we’re also open 24hrs till Monday 2am!!
URL:https://dev.peninsulasauna.com.au/event/happy-hour/2026-07-31/
LOCATION:Wet on Wellington\, 162 Wellington Street\, Collingwood\, VIC\, 3066\, Australia
ATTACH;FMTTYPE=image/png:https://dev.peninsulasauna.com.au/wp-content/uploads/2025/10/Red-Cream-Modern-Happy-Hour-Instagram-Story-1920-x-1080-px-2.png
END:VEVENT
BEGIN:VEVENT
DTSTART;TZID=Australia/Melbourne:20260730T183000
DTEND;TZID=Australia/Melbourne:20260731T020000
DTSTAMP:20260422T072229
CREATED:20251017T054402Z
LAST-MODIFIED:20251017T125958Z
UID:10001217-1785436200-1785463200@dev.peninsulasauna.com.au
SUMMARY:Queer AF
DESCRIPTION:A night for all our Gay\, Bi\, Trans\, Crossdressers and anyone part of our LGBTQI+ community – Whoever you are\, whatever you’re into\, YOU ARE WELCOME!
URL:https://dev.peninsulasauna.com.au/event/queer-af/2026-07-30/
LOCATION:Wet on Wellington\, 162 Wellington Street\, Collingwood\, VIC\, 3066\, Australia
ATTACH;FMTTYPE=image/jpeg:https://dev.peninsulasauna.com.au/wp-content/uploads/2025/10/Queer-AF-updated-2025-1080p.jpg
END:VEVENT
BEGIN:VEVENT
DTSTART;TZID=Australia/Melbourne:20260729T183000
DTEND;TZID=Australia/Melbourne:20260729T183000
DTSTAMP:20260422T072229
CREATED:20251017T054648Z
LAST-MODIFIED:20251017T130309Z
UID:10001478-1785349800-1785349800@dev.peninsulasauna.com.au
SUMMARY:Silver Daddy Night
DESCRIPTION:A night for all our sexy DADDIES and those who love them!
URL:https://dev.peninsulasauna.com.au/event/silver-daddy-night/2026-07-29/
LOCATION:Wet on Wellington\, 162 Wellington Street\, Collingwood\, VIC\, 3066\, Australia
ATTACH;FMTTYPE=image/jpeg:https://dev.peninsulasauna.com.au/wp-content/uploads/2025/10/Silver-2025-1080p.jpg
END:VEVENT
BEGIN:VEVENT
DTSTART;TZID=Australia/Melbourne:20260728T183000
DTEND;TZID=Australia/Melbourne:20260729T020000
DTSTAMP:20260422T072229
CREATED:20251017T125629Z
LAST-MODIFIED:20251017T130247Z
UID:10001738-1785263400-1785290400@dev.peninsulasauna.com.au
SUMMARY:Furocious Bear Night
DESCRIPTION:A night for Bears\, Cubs\, Otters & Pandas…. And those who love them! Cum on in and wet your fur!
URL:https://dev.peninsulasauna.com.au/event/furocious-bear-night-2/2026-07-28/
LOCATION:Wet on Wellington\, 162 Wellington Street\, Collingwood\, VIC\, 3066\, Australia
ATTACH;FMTTYPE=image/jpeg:https://dev.peninsulasauna.com.au/wp-content/uploads/2025/10/Bear-Night-1080p-1.jpg
END:VEVENT
BEGIN:VEVENT
DTSTART;TZID=Australia/Melbourne:20260727T183000
DTEND;TZID=Australia/Melbourne:20260728T020000
DTSTAMP:20260422T072229
CREATED:20251017T033530Z
LAST-MODIFIED:20251017T043251Z
UID:10001985-1785177000-1785204000@dev.peninsulasauna.com.au
SUMMARY:Xposed Nude Night
DESCRIPTION:Strip down and strut your stuff during Nude Night! Time to get those c*ck’s out and those bums up! Let it all hang out and get ‘xposed’ in a non-judgemental space. \nCompulsory nudity venue wide! \n*$35 Entry on a Public Holiday.
URL:https://dev.peninsulasauna.com.au/event/xposed-nude-night/2026-07-27/
LOCATION:Wet on Wellington\, 162 Wellington Street\, Collingwood\, VIC\, 3066\, Australia
ATTACH;FMTTYPE=image/jpeg:https://dev.peninsulasauna.com.au/wp-content/uploads/2025/10/Xposed-Nude-1080P-2.jpg
END:VEVENT
BEGIN:VEVENT
DTSTART;TZID=Australia/Melbourne:20260724T200000
DTEND;TZID=Australia/Melbourne:20260724T230000
DTSTAMP:20260422T072229
CREATED:20251015T075300Z
LAST-MODIFIED:20251017T125532Z
UID:10000955-1784923200-1784934000@dev.peninsulasauna.com.au
SUMMARY:Happy Hour
DESCRIPTION:Kick off the weekend the RIGHT way at Wet on Wellington with Happy Hour every Friday from 8pm till 11pm! \nEnjoy a sauna with a $5 beer or even hang out in the spa with a $6 vodka\, lime and soda! Whatever your poison\, we have it here for Happy Hour! \n$5 OFF SELECT BEER & WINE AND $6 OFF SELECT SPIRITS!! \nDon’t forget we’re also open 24hrs till Monday 2am!!
URL:https://dev.peninsulasauna.com.au/event/happy-hour/2026-07-24/
LOCATION:Wet on Wellington\, 162 Wellington Street\, Collingwood\, VIC\, 3066\, Australia
ATTACH;FMTTYPE=image/png:https://dev.peninsulasauna.com.au/wp-content/uploads/2025/10/Red-Cream-Modern-Happy-Hour-Instagram-Story-1920-x-1080-px-2.png
END:VEVENT
BEGIN:VEVENT
DTSTART;TZID=Australia/Melbourne:20260723T183000
DTEND;TZID=Australia/Melbourne:20260724T020000
DTSTAMP:20260422T072229
CREATED:20251017T054402Z
LAST-MODIFIED:20251017T125958Z
UID:10001216-1784831400-1784858400@dev.peninsulasauna.com.au
SUMMARY:Queer AF
DESCRIPTION:A night for all our Gay\, Bi\, Trans\, Crossdressers and anyone part of our LGBTQI+ community – Whoever you are\, whatever you’re into\, YOU ARE WELCOME!
URL:https://dev.peninsulasauna.com.au/event/queer-af/2026-07-23/
LOCATION:Wet on Wellington\, 162 Wellington Street\, Collingwood\, VIC\, 3066\, Australia
ATTACH;FMTTYPE=image/jpeg:https://dev.peninsulasauna.com.au/wp-content/uploads/2025/10/Queer-AF-updated-2025-1080p.jpg
END:VEVENT
BEGIN:VEVENT
DTSTART;TZID=Australia/Melbourne:20260722T183000
DTEND;TZID=Australia/Melbourne:20260722T183000
DTSTAMP:20260422T072229
CREATED:20251017T054648Z
LAST-MODIFIED:20251017T130309Z
UID:10001477-1784745000-1784745000@dev.peninsulasauna.com.au
SUMMARY:Silver Daddy Night
DESCRIPTION:A night for all our sexy DADDIES and those who love them!
URL:https://dev.peninsulasauna.com.au/event/silver-daddy-night/2026-07-22/
LOCATION:Wet on Wellington\, 162 Wellington Street\, Collingwood\, VIC\, 3066\, Australia
ATTACH;FMTTYPE=image/jpeg:https://dev.peninsulasauna.com.au/wp-content/uploads/2025/10/Silver-2025-1080p.jpg
END:VEVENT
BEGIN:VEVENT
DTSTART;TZID=Australia/Melbourne:20260721T183000
DTEND;TZID=Australia/Melbourne:20260722T020000
DTSTAMP:20260422T072229
CREATED:20251017T125629Z
LAST-MODIFIED:20251017T130247Z
UID:10001737-1784658600-1784685600@dev.peninsulasauna.com.au
SUMMARY:Furocious Bear Night
DESCRIPTION:A night for Bears\, Cubs\, Otters & Pandas…. And those who love them! Cum on in and wet your fur!
URL:https://dev.peninsulasauna.com.au/event/furocious-bear-night-2/2026-07-21/
LOCATION:Wet on Wellington\, 162 Wellington Street\, Collingwood\, VIC\, 3066\, Australia
ATTACH;FMTTYPE=image/jpeg:https://dev.peninsulasauna.com.au/wp-content/uploads/2025/10/Bear-Night-1080p-1.jpg
END:VEVENT
BEGIN:VEVENT
DTSTART;TZID=Australia/Melbourne:20260720T190000
DTEND;TZID=Australia/Melbourne:20260721T020000
DTSTAMP:20260422T072229
CREATED:20251015T074736Z
LAST-MODIFIED:20251017T054344Z
UID:10000604-1784574000-1784599200@dev.peninsulasauna.com.au
SUMMARY:Swingers Couples Pool Party
DESCRIPTION:$100 COUPLES\, $45 LADIES\, $350 SINGLE MEN* | Melbourne’ s most luxurious and erotic Men’s Club opens its doors for Swingers to engage in the sensuality of a naked and uninhibited Pool Party. Guests can indulge in all of the erotic and luxurious facilities that Wet On Wellington is famous for. \n*Single Men are required to pre-book by calling the venue on (03) 9419 2210. \nPlease note: Couples that arrive together must also depart together as a couple. Females can not depart without their male partner. Men are NOT allowed to be upstairs without a female partner unless entered as a Single Male.
URL:https://dev.peninsulasauna.com.au/event/swingers-couples-pool-party/2026-07-20/
LOCATION:Wet on Wellington\, 162 Wellington Street\, Collingwood\, VIC\, 3066\, Australia
ATTACH;FMTTYPE=image/jpeg:https://dev.peninsulasauna.com.au/wp-content/uploads/2025/10/Swingers-Couples-Pool-Party-1080p-2025.jpg
ORGANIZER;CN="Melbourne Swingers":MAILTO:info@melbourne-swingers.com.au
END:VEVENT
BEGIN:VEVENT
DTSTART;TZID=Australia/Melbourne:20260717T200000
DTEND;TZID=Australia/Melbourne:20260717T230000
DTSTAMP:20260422T072229
CREATED:20251015T075300Z
LAST-MODIFIED:20251017T125532Z
UID:10000954-1784318400-1784329200@dev.peninsulasauna.com.au
SUMMARY:Happy Hour
DESCRIPTION:Kick off the weekend the RIGHT way at Wet on Wellington with Happy Hour every Friday from 8pm till 11pm! \nEnjoy a sauna with a $5 beer or even hang out in the spa with a $6 vodka\, lime and soda! Whatever your poison\, we have it here for Happy Hour! \n$5 OFF SELECT BEER & WINE AND $6 OFF SELECT SPIRITS!! \nDon’t forget we’re also open 24hrs till Monday 2am!!
URL:https://dev.peninsulasauna.com.au/event/happy-hour/2026-07-17/
LOCATION:Wet on Wellington\, 162 Wellington Street\, Collingwood\, VIC\, 3066\, Australia
ATTACH;FMTTYPE=image/png:https://dev.peninsulasauna.com.au/wp-content/uploads/2025/10/Red-Cream-Modern-Happy-Hour-Instagram-Story-1920-x-1080-px-2.png
END:VEVENT
BEGIN:VEVENT
DTSTART;TZID=Australia/Melbourne:20260716T183000
DTEND;TZID=Australia/Melbourne:20260717T020000
DTSTAMP:20260422T072229
CREATED:20251017T054402Z
LAST-MODIFIED:20251017T125958Z
UID:10001215-1784226600-1784253600@dev.peninsulasauna.com.au
SUMMARY:Queer AF
DESCRIPTION:A night for all our Gay\, Bi\, Trans\, Crossdressers and anyone part of our LGBTQI+ community – Whoever you are\, whatever you’re into\, YOU ARE WELCOME!
URL:https://dev.peninsulasauna.com.au/event/queer-af/2026-07-16/
LOCATION:Wet on Wellington\, 162 Wellington Street\, Collingwood\, VIC\, 3066\, Australia
ATTACH;FMTTYPE=image/jpeg:https://dev.peninsulasauna.com.au/wp-content/uploads/2025/10/Queer-AF-updated-2025-1080p.jpg
END:VEVENT
BEGIN:VEVENT
DTSTART;TZID=Australia/Melbourne:20260715T183000
DTEND;TZID=Australia/Melbourne:20260715T183000
DTSTAMP:20260422T072229
CREATED:20251017T054648Z
LAST-MODIFIED:20251017T130309Z
UID:10001476-1784140200-1784140200@dev.peninsulasauna.com.au
SUMMARY:Silver Daddy Night
DESCRIPTION:A night for all our sexy DADDIES and those who love them!
URL:https://dev.peninsulasauna.com.au/event/silver-daddy-night/2026-07-15/
LOCATION:Wet on Wellington\, 162 Wellington Street\, Collingwood\, VIC\, 3066\, Australia
ATTACH;FMTTYPE=image/jpeg:https://dev.peninsulasauna.com.au/wp-content/uploads/2025/10/Silver-2025-1080p.jpg
END:VEVENT
BEGIN:VEVENT
DTSTART;TZID=Australia/Melbourne:20260714T183000
DTEND;TZID=Australia/Melbourne:20260715T020000
DTSTAMP:20260422T072229
CREATED:20251017T125629Z
LAST-MODIFIED:20251017T130247Z
UID:10001736-1784053800-1784080800@dev.peninsulasauna.com.au
SUMMARY:Furocious Bear Night
DESCRIPTION:A night for Bears\, Cubs\, Otters & Pandas…. And those who love them! Cum on in and wet your fur!
URL:https://dev.peninsulasauna.com.au/event/furocious-bear-night-2/2026-07-14/
LOCATION:Wet on Wellington\, 162 Wellington Street\, Collingwood\, VIC\, 3066\, Australia
ATTACH;FMTTYPE=image/jpeg:https://dev.peninsulasauna.com.au/wp-content/uploads/2025/10/Bear-Night-1080p-1.jpg
END:VEVENT
BEGIN:VEVENT
DTSTART;TZID=Australia/Melbourne:20260713T183000
DTEND;TZID=Australia/Melbourne:20260714T020000
DTSTAMP:20260422T072229
CREATED:20251017T033530Z
LAST-MODIFIED:20251017T043251Z
UID:10001984-1783967400-1783994400@dev.peninsulasauna.com.au
SUMMARY:Xposed Nude Night
DESCRIPTION:Strip down and strut your stuff during Nude Night! Time to get those c*ck’s out and those bums up! Let it all hang out and get ‘xposed’ in a non-judgemental space. \nCompulsory nudity venue wide! \n*$35 Entry on a Public Holiday.
URL:https://dev.peninsulasauna.com.au/event/xposed-nude-night/2026-07-13/
LOCATION:Wet on Wellington\, 162 Wellington Street\, Collingwood\, VIC\, 3066\, Australia
ATTACH;FMTTYPE=image/jpeg:https://dev.peninsulasauna.com.au/wp-content/uploads/2025/10/Xposed-Nude-1080P-2.jpg
END:VEVENT
BEGIN:VEVENT
DTSTART;TZID=Australia/Melbourne:20260710T200000
DTEND;TZID=Australia/Melbourne:20260710T230000
DTSTAMP:20260422T072229
CREATED:20251015T075300Z
LAST-MODIFIED:20251017T125532Z
UID:10000953-1783713600-1783724400@dev.peninsulasauna.com.au
SUMMARY:Happy Hour
DESCRIPTION:Kick off the weekend the RIGHT way at Wet on Wellington with Happy Hour every Friday from 8pm till 11pm! \nEnjoy a sauna with a $5 beer or even hang out in the spa with a $6 vodka\, lime and soda! Whatever your poison\, we have it here for Happy Hour! \n$5 OFF SELECT BEER & WINE AND $6 OFF SELECT SPIRITS!! \nDon’t forget we’re also open 24hrs till Monday 2am!!
URL:https://dev.peninsulasauna.com.au/event/happy-hour/2026-07-10/
LOCATION:Wet on Wellington\, 162 Wellington Street\, Collingwood\, VIC\, 3066\, Australia
ATTACH;FMTTYPE=image/png:https://dev.peninsulasauna.com.au/wp-content/uploads/2025/10/Red-Cream-Modern-Happy-Hour-Instagram-Story-1920-x-1080-px-2.png
END:VEVENT
BEGIN:VEVENT
DTSTART;TZID=Australia/Melbourne:20260709T183000
DTEND;TZID=Australia/Melbourne:20260710T020000
DTSTAMP:20260422T072229
CREATED:20251017T054402Z
LAST-MODIFIED:20251017T125958Z
UID:10001214-1783621800-1783648800@dev.peninsulasauna.com.au
SUMMARY:Queer AF
DESCRIPTION:A night for all our Gay\, Bi\, Trans\, Crossdressers and anyone part of our LGBTQI+ community – Whoever you are\, whatever you’re into\, YOU ARE WELCOME!
URL:https://dev.peninsulasauna.com.au/event/queer-af/2026-07-09/
LOCATION:Wet on Wellington\, 162 Wellington Street\, Collingwood\, VIC\, 3066\, Australia
ATTACH;FMTTYPE=image/jpeg:https://dev.peninsulasauna.com.au/wp-content/uploads/2025/10/Queer-AF-updated-2025-1080p.jpg
END:VEVENT
END:VCALENDAR