BEGIN:VCALENDAR
VERSION:2.0
PRODID:-//Wet on Wellington - ECPv6.15.12.2//NONSGML v1.0//EN
CALSCALE:GREGORIAN
METHOD:PUBLISH
X-WR-CALNAME:Wet on Wellington
X-ORIGINAL-URL:https://dev.peninsulasauna.com.au
X-WR-CALDESC:Events for Wet on Wellington
REFRESH-INTERVAL;VALUE=DURATION:PT1H
X-Robots-Tag:noindex
X-PUBLISHED-TTL:PT1H
BEGIN:VTIMEZONE
TZID:Australia/Melbourne
BEGIN:STANDARD
TZOFFSETFROM:+1100
TZOFFSETTO:+1000
TZNAME:AEST
DTSTART:20250405T160000
END:STANDARD
BEGIN:DAYLIGHT
TZOFFSETFROM:+1000
TZOFFSETTO:+1100
TZNAME:AEDT
DTSTART:20251004T160000
END:DAYLIGHT
BEGIN:STANDARD
TZOFFSETFROM:+1100
TZOFFSETTO:+1000
TZNAME:AEST
DTSTART:20260404T160000
END:STANDARD
BEGIN:DAYLIGHT
TZOFFSETFROM:+1000
TZOFFSETTO:+1100
TZNAME:AEDT
DTSTART:20261003T160000
END:DAYLIGHT
BEGIN:STANDARD
TZOFFSETFROM:+1100
TZOFFSETTO:+1000
TZNAME:AEST
DTSTART:20270403T160000
END:STANDARD
BEGIN:DAYLIGHT
TZOFFSETFROM:+1000
TZOFFSETTO:+1100
TZNAME:AEDT
DTSTART:20271002T160000
END:DAYLIGHT
END:VTIMEZONE
BEGIN:VEVENT
DTSTART;TZID=Australia/Melbourne:20260423T183000
DTEND;TZID=Australia/Melbourne:20260424T020000
DTSTAMP:20260423T015309
CREATED:20251017T054402Z
LAST-MODIFIED:20251017T125958Z
UID:10001203-1776969000-1776996000@dev.peninsulasauna.com.au
SUMMARY:Queer AF
DESCRIPTION:A night for all our Gay\, Bi\, Trans\, Crossdressers and anyone part of our LGBTQI+ community – Whoever you are\, whatever you’re into\, YOU ARE WELCOME!
URL:https://dev.peninsulasauna.com.au/event/queer-af/2026-04-23/
LOCATION:Wet on Wellington\, 162 Wellington Street\, Collingwood\, VIC\, 3066\, Australia
ATTACH;FMTTYPE=image/jpeg:https://dev.peninsulasauna.com.au/wp-content/uploads/2025/10/Queer-AF-updated-2025-1080p.jpg
END:VEVENT
END:VCALENDAR